BEGIN:VCALENDAR
VERSION:2.0
PRODID:-//hacksw/handcal//NONSGML v1.0//EN
CALSCALE:GREGORIAN
BEGIN:VEVENT
DTSTART:20241017T150000
DTEND:20241017T170000
LOCATION:CampusVäre, Dornbirn
DTSTAMP:20260425T150028
SUMMARY:CEV Themenreihe Kreislaufwirtschaft | Fokus „Zirkuläres Bauen“
URL;VALUE=URI:https://www.wisto.at/events/cev-themenreihe-kreislaufwirtschaft-fokus-zirkulaeres-bauen/
DESCRIPTION:
UID:69ecbaece66e6
END:VEVENT
END:VCALENDAR